BEGIN:VCALENDAR
VERSION:2.0
PRODID:-//Lake Eustis Sailing Club - ECPv6.11.2.1//NONSGML v1.0//EN
CALSCALE:GREGORIAN
METHOD:PUBLISH
X-ORIGINAL-URL:https://lescfl.org
X-WR-CALDESC:Events for Lake Eustis Sailing Club
REFRESH-INTERVAL;VALUE=DURATION:PT1H
X-Robots-Tag:noindex
X-PUBLISHED-TTL:PT1H
BEGIN:VTIMEZONE
TZID:America/New_York
BEGIN:DAYLIGHT
TZOFFSETFROM:-0500
TZOFFSETTO:-0400
TZNAME:EDT
DTSTART:20250309T070000
END:DAYLIGHT
BEGIN:STANDARD
TZOFFSETFROM:-0400
TZOFFSETTO:-0500
TZNAME:EST
DTSTART:20251102T060000
END:STANDARD
END:VTIMEZONE
BEGIN:VEVENT
DTSTART;VALUE=DATE:20250906
DTEND;VALUE=DATE:20250908
DTSTAMP:20260420T125821
CREATED:20230513T033532Z
LAST-MODIFIED:20250519T000808Z
UID:378-1757116800-1757289599@lescfl.org
SUMMARY:Club Races 1
DESCRIPTION:First start 11:00 both days
URL:https://lescfl.org/index.php/event/club-races-1/
LOCATION:LESC
CATEGORIES:Safety:MC
END:VEVENT
END:VCALENDAR