BEGIN:VCALENDAR
VERSION:2.0
PRODID:-//Lake Eustis Sailing Club - ECPv6.11.2.1//NONSGML v1.0//EN
CALSCALE:GREGORIAN
METHOD:PUBLISH
X-ORIGINAL-URL:https://lescfl.org
X-WR-CALDESC:Events for Lake Eustis Sailing Club
REFRESH-INTERVAL;VALUE=DURATION:PT1H
X-Robots-Tag:noindex
X-PUBLISHED-TTL:PT1H
BEGIN:VTIMEZONE
TZID:UTC
BEGIN:STANDARD
TZOFFSETFROM:+0000
TZOFFSETTO:+0000
TZNAME:UTC
DTSTART:20250101T000000
END:STANDARD
END:VTIMEZONE
BEGIN:VEVENT
DTSTART;VALUE=DATE:20251107
DTEND;VALUE=DATE:20251110
DTSTAMP:20260420T155806
CREATED:20240326T152749Z
LAST-MODIFIED:20260201T163134Z
UID:1125-1762473600-1762732799@lescfl.org
SUMMARY:31st MC Scow SER Championship Triple Crown 1.  (3 days)
DESCRIPTION:  \n 
URL:https://lescfl.org/index.php/event/nov-8910th-30th-mc-scow-ser-championship-triple-crown-1-nb-3-days/
CATEGORIES:Regatta
END:VEVENT
END:VCALENDAR